BEGIN:VCALENDAR
VERSION:2.0
PRODID:-//Kulla kapell - ECPv5.1.6//NONSGML v1.0//EN
CALSCALE:GREGORIAN
METHOD:PUBLISH
X-WR-CALNAME:Kulla kapell
X-ORIGINAL-URL:https://www.kullakapell.nu
X-WR-CALDESC:Händelser för Kulla kapell
BEGIN:VTIMEZONE
TZID:UTC
BEGIN:STANDARD
TZOFFSETFROM:+0000
TZOFFSETTO:+0000
TZNAME:UTC
DTSTART:20140101T000000
END:STANDARD
END:VTIMEZONE
BEGIN:VEVENT
DTSTART;TZID=UTC:20141109T110000
DTEND;TZID=UTC:20141109T150000
DTSTAMP:20260420T164742
CREATED:20140803T084007Z
LAST-MODIFIED:20141021T205626Z
UID:270-1415530800-1415545200@www.kullakapell.nu
SUMMARY:Öppet kapell
DESCRIPTION:Guidning\, utställning och servering
URL:https://www.kullakapell.nu/?tribe_events=oppet-kapell
END:VEVENT
END:VCALENDAR