BEGIN:VCALENDAR
VERSION:2.0
PRODID:-//Kulla kapell - ECPv5.1.6//NONSGML v1.0//EN
CALSCALE:GREGORIAN
METHOD:PUBLISH
X-WR-CALNAME:Kulla kapell
X-ORIGINAL-URL:https://www.kullakapell.nu
X-WR-CALDESC:Händelser för Kulla kapell
BEGIN:VTIMEZONE
TZID:UTC
BEGIN:STANDARD
TZOFFSETFROM:+0000
TZOFFSETTO:+0000
TZNAME:UTC
DTSTART:20150101T000000
END:STANDARD
END:VTIMEZONE
BEGIN:VEVENT
DTSTART;TZID=UTC:20150808T180000
DTEND;TZID=UTC:20150808T190000
DTSTAMP:20260422T225140
CREATED:20150507T212003Z
LAST-MODIFIED:20150507T212003Z
UID:421-1439056800-1439060400@www.kullakapell.nu
SUMMARY:Psalm i sommarkväll lördag 8 augusti kl. 18.00
DESCRIPTION:Musik Ann-Marie Olaison Andakt Bo Bergstrand
URL:https://www.kullakapell.nu/?tribe_events=psalm-i-sommarkvall-lordag-8-augusti-kl-18-00
END:VEVENT
END:VCALENDAR