BEGIN:VCALENDAR
VERSION:2.0
PRODID:-//Kulla kapell - ECPv5.1.6//NONSGML v1.0//EN
CALSCALE:GREGORIAN
METHOD:PUBLISH
X-WR-CALNAME:Kulla kapell
X-ORIGINAL-URL:https://www.kullakapell.nu
X-WR-CALDESC:Händelser för Kulla kapell
BEGIN:VTIMEZONE
TZID:UTC
BEGIN:STANDARD
TZOFFSETFROM:+0000
TZOFFSETTO:+0000
TZNAME:UTC
DTSTART:20160101T000000
END:STANDARD
END:VTIMEZONE
BEGIN:VEVENT
DTSTART;TZID=UTC:20161016T150000
DTEND;TZID=UTC:20161016T163000
DTSTAMP:20260423T101331
CREATED:20160826T153443Z
LAST-MODIFIED:20160901T093740Z
UID:631-1476630000-1476635400@www.kullakapell.nu
SUMMARY:Söndag 16 oktober kl.15.00 Gudstjänst Predikan Birgitta Carsnäs Musik Ann-Marie Olaison
DESCRIPTION:
URL:https://www.kullakapell.nu/?tribe_events=sondag-16-oktober-kl-15-00-gudstjanst-predikan-musik
END:VEVENT
END:VCALENDAR