BEGIN:VCALENDAR
VERSION:2.0
PRODID:-//Kulla kapell - ECPv5.1.6//NONSGML v1.0//EN
CALSCALE:GREGORIAN
METHOD:PUBLISH
X-WR-CALNAME:Kulla kapell
X-ORIGINAL-URL:https://www.kullakapell.nu
X-WR-CALDESC:Händelser för Kulla kapell
BEGIN:VTIMEZONE
TZID:UTC
BEGIN:STANDARD
TZOFFSETFROM:+0000
TZOFFSETTO:+0000
TZNAME:UTC
DTSTART:20220101T000000
END:STANDARD
END:VTIMEZONE
BEGIN:VEVENT
DTSTART;TZID=UTC:20220918T150000
DTEND;TZID=UTC:20220918T163000
DTSTAMP:20260424T175126
CREATED:20220207T171954Z
LAST-MODIFIED:20220822T013850Z
UID:1874-1663513200-1663518600@www.kullakapell.nu
SUMMARY:Söndag 18/9 kl. 15.00 Gudstjänst
DESCRIPTION:Predikan Per von Stöckel Walett\nMusik Maria Uggla
URL:https://www.kullakapell.nu/?tribe_events=sondag-19-6-kl-15-00-friluftsgudstjanst-i-hogakullasjon
END:VEVENT
END:VCALENDAR