BEGIN:VCALENDAR
VERSION:2.0
PRODID:-//Kulla kapell - ECPv5.1.6//NONSGML v1.0//EN
CALSCALE:GREGORIAN
METHOD:PUBLISH
X-WR-CALNAME:Kulla kapell
X-ORIGINAL-URL:https://www.kullakapell.nu
X-WR-CALDESC:Händelser för Kulla kapell
BEGIN:VTIMEZONE
TZID:UTC
BEGIN:STANDARD
TZOFFSETFROM:+0000
TZOFFSETTO:+0000
TZNAME:UTC
DTSTART:20220101T000000
END:STANDARD
END:VTIMEZONE
BEGIN:VEVENT
DTSTART;TZID=UTC:20220821T150000
DTEND;TZID=UTC:20220821T160000
DTSTAMP:20260424T174721
CREATED:20220207T171630Z
LAST-MODIFIED:20220822T013731Z
UID:1872-1661094000-1661097600@www.kullakapell.nu
SUMMARY:Söndag 21/8 kl.15.00 Mässa
DESCRIPTION:Predikan Per von Stöckel Walett\nMusik Maria Uggla
URL:https://www.kullakapell.nu/?tribe_events=sondag-21-8-kl-15-00-massa
END:VEVENT
END:VCALENDAR