BEGIN:VCALENDAR
VERSION:2.0
PRODID:-//Kulla kapell - ECPv5.1.6//NONSGML v1.0//EN
CALSCALE:GREGORIAN
METHOD:PUBLISH
X-WR-CALNAME:Kulla kapell
X-ORIGINAL-URL:https://www.kullakapell.nu
X-WR-CALDESC:Händelser för Kulla kapell
BEGIN:VTIMEZONE
TZID:UTC
BEGIN:STANDARD
TZOFFSETFROM:+0000
TZOFFSETTO:+0000
TZNAME:UTC
DTSTART:20170101T000000
END:STANDARD
END:VTIMEZONE
BEGIN:VEVENT
DTSTART;TZID=UTC:20171126T150000
DTEND;TZID=UTC:20171126T163000
DTSTAMP:20260423T234113
CREATED:20170702T190003Z
LAST-MODIFIED:20170702T190003Z
UID:849-1511708400-1511713800@www.kullakapell.nu
SUMMARY:Söndag 26 november 2017 kl 15.00 Gudstjänst
DESCRIPTION:
URL:https://www.kullakapell.nu/?tribe_events=sondag-26-november-2017-kl-15-00-gudstjanst
END:VEVENT
END:VCALENDAR