BEGIN:VCALENDAR
VERSION:2.0
PRODID:-//Kulla kapell - ECPv5.1.6//NONSGML v1.0//EN
CALSCALE:GREGORIAN
METHOD:PUBLISH
X-WR-CALNAME:Kulla kapell
X-ORIGINAL-URL:https://www.kullakapell.nu
X-WR-CALDESC:Händelser för Kulla kapell
BEGIN:VTIMEZONE
TZID:UTC
BEGIN:STANDARD
TZOFFSETFROM:+0000
TZOFFSETTO:+0000
TZNAME:UTC
DTSTART:20210101T000000
END:STANDARD
END:VTIMEZONE
BEGIN:VEVENT
DTSTART;TZID=UTC:20210405T150000
DTEND;TZID=UTC:20210405T163000
DTSTAMP:20260420T165441
CREATED:20201109T142740Z
LAST-MODIFIED:20201109T143006Z
UID:1676-1617634800-1617640200@www.kullakapell.nu
SUMMARY:Annandag Påsk 5 april kl. 11.00 Emmausmässa
DESCRIPTION:Vid bra väder vandrar vi runt kapellet och avslutar gudstjänsten i kapellet.
URL:https://www.kullakapell.nu/?tribe_events=sondag-5-april-kl-15-00-emmausmassa
END:VEVENT
END:VCALENDAR