BEGIN:VCALENDAR
VERSION:2.0
PRODID:-//Kulla kapell - ECPv5.1.6//NONSGML v1.0//EN
CALSCALE:GREGORIAN
METHOD:PUBLISH
X-WR-CALNAME:Kulla kapell
X-ORIGINAL-URL:https://www.kullakapell.nu
X-WR-CALDESC:Händelser för Kulla kapell
BEGIN:VTIMEZONE
TZID:UTC
BEGIN:STANDARD
TZOFFSETFROM:+0000
TZOFFSETTO:+0000
TZNAME:UTC
DTSTART:20250101T000000
END:STANDARD
END:VTIMEZONE
BEGIN:VEVENT
DTSTART;TZID=UTC:20250608T150000
DTEND;TZID=UTC:20250608T163000
DTSTAMP:20260423T104337
CREATED:20250121T181435Z
LAST-MODIFIED:20250519T163341Z
UID:2483-1749394800-1749400200@www.kullakapell.nu
SUMMARY:Söndag 8 juni kl. 15.00 Friluftsgudstjänst vid Högakullasjön
DESCRIPTION:Söndag 8 juni kl. 15.00 Friluftsgudstjänst vid Högakullasjön\nPredikan Tobias Fredrixon\nMusik Maria Uggla\nMedtag kaffekorg och något att sitta på.\nVid regna i Kulla kapell.
URL:https://www.kullakapell.nu/?tribe_events=sondag-8-juni-kl-15-00-friluftsgudstjanst-vid-hogakullasjon
END:VEVENT
END:VCALENDAR