BEGIN:VCALENDAR
VERSION:2.0
PRODID:-//Kulla kapell - ECPv5.1.6//NONSGML v1.0//EN
CALSCALE:GREGORIAN
METHOD:PUBLISH
X-WR-CALNAME:Kulla kapell
X-ORIGINAL-URL:https://www.kullakapell.nu
X-WR-CALDESC:Händelser för Kulla kapell
BEGIN:VTIMEZONE
TZID:UTC
BEGIN:STANDARD
TZOFFSETFROM:+0000
TZOFFSETTO:+0000
TZNAME:UTC
DTSTART:20190101T000000
END:STANDARD
END:VTIMEZONE
BEGIN:VEVENT
DTSTART;TZID=UTC:20190929T150000
DTEND;TZID=UTC:20190929T163000
DTSTAMP:20260424T044345
CREATED:20190529T071908Z
LAST-MODIFIED:20190927T075534Z
UID:1358-1569769200-1569774600@www.kullakapell.nu
SUMMARY:Söndagsmässa 29/9 kl. 15.00 med kyrkkaffe
DESCRIPTION:Predikan Henrik Broman\nMusik Yvohn Thunborg med Höreda-Mellby körerna. Avtackning av Yvohn. Kyrkkaffe
URL:https://www.kullakapell.nu/?tribe_events=sondagsmassa-29-9-kl-15-00
END:VEVENT
END:VCALENDAR