BEGIN:VCALENDAR
VERSION:2.0
PRODID:-//Kulla kapell - ECPv5.1.6//NONSGML v1.0//EN
CALSCALE:GREGORIAN
METHOD:PUBLISH
X-WR-CALNAME:Kulla kapell
X-ORIGINAL-URL:https://www.kullakapell.nu
X-WR-CALDESC:Händelser för Kulla kapell
BEGIN:VTIMEZONE
TZID:UTC
BEGIN:STANDARD
TZOFFSETFROM:+0000
TZOFFSETTO:+0000
TZNAME:UTC
DTSTART:20180101T000000
END:STANDARD
END:VTIMEZONE
BEGIN:VEVENT
DTSTART;TZID=UTC:20180107T150000
DTEND;TZID=UTC:20180107T163000
DTSTAMP:20260423T235808
CREATED:20180121T102107Z
LAST-MODIFIED:20180121T102152Z
UID:953-1515337200-1515342600@www.kullakapell.nu
SUMMARY:Söndagsmässa 7 januari kl. 15.00
DESCRIPTION:Predikan Sven-Olof Wallinder Musik Maria Uggla Fiol Kenneth Karlsson
URL:https://www.kullakapell.nu/?tribe_events=sondagsmassa-7-januari-kl-15-00
END:VEVENT
END:VCALENDAR