BEGIN:VCALENDAR
VERSION:2.0
PRODID:-//Kulla kapell - ECPv5.1.6//NONSGML v1.0//EN
CALSCALE:GREGORIAN
METHOD:PUBLISH
X-WR-CALNAME:Kulla kapell
X-ORIGINAL-URL:https://www.kullakapell.nu
X-WR-CALDESC:Händelser för Kulla kapell
BEGIN:VTIMEZONE
TZID:UTC
BEGIN:STANDARD
TZOFFSETFROM:+0000
TZOFFSETTO:+0000
TZNAME:UTC
DTSTART:20150101T000000
END:STANDARD
END:VTIMEZONE
BEGIN:VEVENT
DTSTART;TZID=UTC:20150516T080000
DTEND;TZID=UTC:20150516T120000
DTSTAMP:20260422T182112
CREATED:20150127T134455Z
LAST-MODIFIED:20150127T134455Z
UID:369-1431763200-1431777600@www.kullakapell.nu
SUMMARY:Städdag i kapellet kl. 08.00 - 12.00
DESCRIPTION:Vi gör vårstädningen ute och inne. Tag med eget fika.
URL:https://www.kullakapell.nu/?tribe_events=staddag-i-kapellet-kl-08-00-12-00
END:VEVENT
END:VCALENDAR