BEGIN:VCALENDAR
VERSION:2.0
PRODID:-//Kulla kapell - ECPv5.1.6//NONSGML v1.0//EN
CALSCALE:GREGORIAN
METHOD:PUBLISH
X-WR-CALNAME:Kulla kapell
X-ORIGINAL-URL:https://www.kullakapell.nu
X-WR-CALDESC:Händelser för Kulla kapell
BEGIN:VTIMEZONE
TZID:UTC
BEGIN:STANDARD
TZOFFSETFROM:+0000
TZOFFSETTO:+0000
TZNAME:UTC
DTSTART:20160101T000000
END:STANDARD
END:VTIMEZONE
BEGIN:VEVENT
DTSTART;TZID=UTC:20160507T090000
DTEND;TZID=UTC:20160507T120000
DTSTAMP:20260423T070843
CREATED:20160130T215252Z
LAST-MODIFIED:20160130T215324Z
UID:541-1462611600-1462622400@www.kullakapell.nu
SUMMARY:Städdag i Kulla kapell 7 maj kl.09.00
DESCRIPTION:Alla hälsas välkomna!
URL:https://www.kullakapell.nu/?tribe_events=staddag-i-kulla-kapell-7-maj-kl-09-00
END:VEVENT
END:VCALENDAR