BEGIN:VCALENDAR
VERSION:2.0
PRODID:-//Kulla kapell - ECPv5.1.6//NONSGML v1.0//EN
CALSCALE:GREGORIAN
METHOD:PUBLISH
X-WR-CALNAME:Kulla kapell
X-ORIGINAL-URL:https://www.kullakapell.nu
X-WR-CALDESC:Händelser för Kulla kapell
BEGIN:VTIMEZONE
TZID:UTC
BEGIN:STANDARD
TZOFFSETFROM:+0000
TZOFFSETTO:+0000
TZNAME:UTC
DTSTART:20170101T000000
END:STANDARD
END:VTIMEZONE
BEGIN:VEVENT
DTSTART;TZID=UTC:20170506T090000
DTEND;TZID=UTC:20170506T120000
DTSTAMP:20260423T173817
CREATED:20161020T184934Z
LAST-MODIFIED:20161020T184934Z
UID:678-1494061200-1494072000@www.kullakapell.nu
SUMMARY:Städdag lördag 6 maj kl. 09.00 - 12.00
DESCRIPTION:Tag med eget fika och städutrusning som du vill använda.
URL:https://www.kullakapell.nu/?tribe_events=staddag-lordag-6-maj-kl-09-00-12-00
END:VEVENT
END:VCALENDAR