BEGIN:VCALENDAR
VERSION:2.0
PRODID:-//Kulla kapell - ECPv5.1.6//NONSGML v1.0//EN
CALSCALE:GREGORIAN
METHOD:PUBLISH
X-WR-CALNAME:Kulla kapell
X-ORIGINAL-URL:https://www.kullakapell.nu
X-WR-CALDESC:Händelser för Kulla kapell
BEGIN:VTIMEZONE
TZID:UTC
BEGIN:STANDARD
TZOFFSETFROM:+0000
TZOFFSETTO:+0000
TZNAME:UTC
DTSTART:20180101T000000
END:STANDARD
END:VTIMEZONE
BEGIN:VEVENT
DTSTART;TZID=UTC:20180205T180000
DTEND;TZID=UTC:20180205T210000
DTSTAMP:20260423T235418
CREATED:20171205T145719Z
LAST-MODIFIED:20171205T145719Z
UID:922-1517853600-1517864400@www.kullakapell.nu
SUMMARY:Stick-café 5 februari 2018 kl. 18.00-21.00
DESCRIPTION:Välkommen att sticka och dela trevlig gemenskap! Du kan lära dej nya tekniker. Fika till självkostnadspris.
URL:https://www.kullakapell.nu/?tribe_events=stick-cafe-5-februari-2018-kl-18-00-21-00
END:VEVENT
END:VCALENDAR