BEGIN:VCALENDAR
VERSION:2.0
PRODID:-//Kulla kapell - ECPv5.1.6//NONSGML v1.0//EN
CALSCALE:GREGORIAN
METHOD:PUBLISH
X-WR-CALNAME:Kulla kapell
X-ORIGINAL-URL:https://www.kullakapell.nu
X-WR-CALDESC:Händelser för Kulla kapell
BEGIN:VTIMEZONE
TZID:UTC
BEGIN:STANDARD
TZOFFSETFROM:+0000
TZOFFSETTO:+0000
TZNAME:UTC
DTSTART:20160101T000000
END:STANDARD
END:VTIMEZONE
BEGIN:VEVENT
DTSTART;TZID=UTC:20160912T180000
DTEND;TZID=UTC:20160912T210000
DTSTAMP:20260423T071317
CREATED:20160415T161024Z
LAST-MODIFIED:20160415T161024Z
UID:586-1473703200-1473714000@www.kullakapell.nu
SUMMARY:Stick-café måndag 12 september kl. 18.00 – 21.00
DESCRIPTION:Vi stickar tillsammans. Du kan lära dej nya tekniker. Fika finns till självkostnadspris.
URL:https://www.kullakapell.nu/?tribe_events=stick-cafe-mandag-12-september-kl-18-00-21-00
END:VEVENT
END:VCALENDAR