BEGIN:VCALENDAR
VERSION:2.0
PRODID:-//Kulla kapell - ECPv5.1.6//NONSGML v1.0//EN
CALSCALE:GREGORIAN
METHOD:PUBLISH
X-WR-CALNAME:Kulla kapell
X-ORIGINAL-URL:https://www.kullakapell.nu
X-WR-CALDESC:Händelser för Kulla kapell
BEGIN:VTIMEZONE
TZID:UTC
BEGIN:STANDARD
TZOFFSETFROM:+0000
TZOFFSETTO:+0000
TZNAME:UTC
DTSTART:20150101T000000
END:STANDARD
END:VTIMEZONE
BEGIN:VEVENT
DTSTART;TZID=UTC:20150601T180000
DTEND;TZID=UTC:20150601T210000
DTSTAMP:20260422T152121
CREATED:20141022T100404Z
LAST-MODIFIED:20141022T100404Z
UID:322-1433181600-1433192400@www.kullakapell.nu
SUMMARY:Stick-café måndag 1/6   kl. 18.00 – 21.00
DESCRIPTION:Vi stickar tillsammans! Du kan lära dej nya tekniker. Fika finns till självkostnadspris.
URL:https://www.kullakapell.nu/?tribe_events=stick-cafe-mandag-16-kl-18-00-21-00
CATEGORIES:Stickcafé
END:VEVENT
END:VCALENDAR