BEGIN:VCALENDAR
VERSION:2.0
PRODID:-//Kulla kapell - ECPv5.1.6//NONSGML v1.0//EN
CALSCALE:GREGORIAN
METHOD:PUBLISH
X-WR-CALNAME:Kulla kapell
X-ORIGINAL-URL:https://www.kullakapell.nu
X-WR-CALDESC:Händelser för Kulla kapell
BEGIN:VTIMEZONE
TZID:UTC
BEGIN:STANDARD
TZOFFSETFROM:+0000
TZOFFSETTO:+0000
TZNAME:UTC
DTSTART:20160101T000000
END:STANDARD
END:VTIMEZONE
BEGIN:VEVENT
DTSTART;TZID=UTC:20160118T180000
DTEND;TZID=UTC:20160118T210000
DTSTAMP:20260423T031619
CREATED:20151106T161644Z
LAST-MODIFIED:20151106T161644Z
UID:505-1453140000-1453150800@www.kullakapell.nu
SUMMARY:Stick-café måndag 18 januari kl. 18.00 - 21.00
DESCRIPTION:Vi stickar tillsammans! Du kan lära dej nya tekniker. Fika finns till självkostnadspris.
URL:https://www.kullakapell.nu/?tribe_events=stick-cafe-mandag-18-januari-kl-18-00-21-00
END:VEVENT
END:VCALENDAR