BEGIN:VCALENDAR
VERSION:2.0
PRODID:-//Kulla kapell - ECPv5.1.6//NONSGML v1.0//EN
CALSCALE:GREGORIAN
METHOD:PUBLISH
X-WR-CALNAME:Kulla kapell
X-ORIGINAL-URL:https://www.kullakapell.nu
X-WR-CALDESC:Händelser för Kulla kapell
BEGIN:VTIMEZONE
TZID:UTC
BEGIN:STANDARD
TZOFFSETFROM:+0000
TZOFFSETTO:+0000
TZNAME:UTC
DTSTART:20150101T000000
END:STANDARD
END:VTIMEZONE
BEGIN:VEVENT
DTSTART;TZID=UTC:20151005T180000
DTEND;TZID=UTC:20151005T210000
DTSTAMP:20260423T020033
CREATED:20150507T212539Z
LAST-MODIFIED:20150507T212539Z
UID:425-1444068000-1444078800@www.kullakapell.nu
SUMMARY:Stick-café måndag 5 oktober kl. 18.00 - 21.00
DESCRIPTION:Vi stickar tillsammans! Du kan lära dej nya tekniker. Fika.
URL:https://www.kullakapell.nu/?tribe_events=stick-cafe-mandag-5-oktober-kl-18-00-21-00
END:VEVENT
END:VCALENDAR