BEGIN:VCALENDAR
VERSION:2.0
PRODID:-//Kulla kapell - ECPv5.1.6//NONSGML v1.0//EN
CALSCALE:GREGORIAN
METHOD:PUBLISH
X-WR-CALNAME:Kulla kapell
X-ORIGINAL-URL:https://www.kullakapell.nu
X-WR-CALDESC:Händelser för Kulla kapell
BEGIN:VTIMEZONE
TZID:UTC
BEGIN:STANDARD
TZOFFSETFROM:+0000
TZOFFSETTO:+0000
TZNAME:UTC
DTSTART:20220101T000000
END:STANDARD
END:VTIMEZONE
BEGIN:VEVENT
DTSTART;TZID=UTC:20220307T180000
DTEND;TZID=UTC:20220307T210000
DTSTAMP:20260425T013237
CREATED:20211028T141832Z
LAST-MODIFIED:20211028T141928Z
UID:1822-1646676000-1646686800@www.kullakapell.nu
SUMMARY:Stick-café  Måndag  7 mars kl. 18.00 – 21.00
DESCRIPTION:Vi stickar tillsammans! Du kan lära dej nya tekniker. Var och en tar med sig fika.
URL:https://www.kullakapell.nu/?tribe_events=stick-cafe-mandag-7-mars-kl-18-00-21-00
END:VEVENT
END:VCALENDAR