BEGIN:VCALENDAR
VERSION:2.0
PRODID:-//Kulla kapell - ECPv5.1.6//NONSGML v1.0//EN
CALSCALE:GREGORIAN
METHOD:PUBLISH
X-WR-CALNAME:Kulla kapell
X-ORIGINAL-URL:https://www.kullakapell.nu
X-WR-CALDESC:Händelser för Kulla kapell
BEGIN:VTIMEZONE
TZID:UTC
BEGIN:STANDARD
TZOFFSETFROM:+0000
TZOFFSETTO:+0000
TZNAME:UTC
DTSTART:20150101T000000
END:STANDARD
END:VTIMEZONE
BEGIN:VEVENT
DTSTART;TZID=UTC:20150309T180000
DTEND;TZID=UTC:20150309T210000
DTSTAMP:20260422T212458
CREATED:20141022T095521Z
LAST-MODIFIED:20141022T095521Z
UID:319-1425924000-1425934800@www.kullakapell.nu
SUMMARY:Stick-café måndag 9/3   kl. 18.00 – 21.00
DESCRIPTION:Vi stickar tillsammans! Du kan lära dej nya tekniker. Fika finns till självkostnadspris.
URL:https://www.kullakapell.nu/?tribe_events=stick-cafe-mandag-93-kl-18-00-21-00
CATEGORIES:Stickcafé
END:VEVENT
END:VCALENDAR