BEGIN:VCALENDAR
VERSION:2.0
PRODID:-//Kulla kapell - ECPv5.1.6//NONSGML v1.0//EN
CALSCALE:GREGORIAN
METHOD:PUBLISH
X-WR-CALNAME:Kulla kapell
X-ORIGINAL-URL:https://www.kullakapell.nu
X-WR-CALDESC:Händelser för Kulla kapell
BEGIN:VTIMEZONE
TZID:UTC
BEGIN:STANDARD
TZOFFSETFROM:+0000
TZOFFSETTO:+0000
TZNAME:UTC
DTSTART:20150101T000000
END:STANDARD
END:VTIMEZONE
BEGIN:VEVENT
DTSTART;TZID=UTC:20150413T180000
DTEND;TZID=UTC:20150413T210000
DTSTAMP:20260422T183230
CREATED:20141022T095741Z
LAST-MODIFIED:20150311T124340Z
UID:320-1428948000-1428958800@www.kullakapell.nu
SUMMARY:Stick-café tisdag 13/4   kl. 18.00 – 21.00 i Linderås hos Iréne Berggren
DESCRIPTION:Samling kl. 17.00 vid Abborraviken för samåkning. Vi stickar tillsammans! Du kan lära dej nya tekniker. Fika finns till självkostnadspris.
URL:https://www.kullakapell.nu/?tribe_events=stick-cafe-tisdag-134-kl-18-00-21-00
CATEGORIES:Stickcafé
END:VEVENT
END:VCALENDAR