BEGIN:VCALENDAR
VERSION:2.0
PRODID:-//Kulla kapell - ECPv5.1.6//NONSGML v1.0//EN
CALSCALE:GREGORIAN
METHOD:PUBLISH
X-WR-CALNAME:Kulla kapell
X-ORIGINAL-URL:https://www.kullakapell.nu
X-WR-CALDESC:Händelser för Kulla kapell
BEGIN:VTIMEZONE
TZID:UTC
BEGIN:STANDARD
TZOFFSETFROM:+0000
TZOFFSETTO:+0000
TZNAME:UTC
DTSTART:20180101T000000
END:STANDARD
END:VTIMEZONE
BEGIN:VEVENT
DTSTART;TZID=UTC:20181112T180000
DTEND;TZID=UTC:20181112T210000
DTSTAMP:20260424T120145
CREATED:20180503T080309Z
LAST-MODIFIED:20180503T080309Z
UID:1033-1542045600-1542056400@www.kullakapell.nu
SUMMARY:Stickcafé 12 november kl. 18.00
DESCRIPTION:
URL:https://www.kullakapell.nu/?tribe_events=stickcafe-12-november-kl-18-00
END:VEVENT
END:VCALENDAR