BEGIN:VCALENDAR
VERSION:2.0
PRODID:-//Kulla kapell - ECPv5.1.6//NONSGML v1.0//EN
CALSCALE:GREGORIAN
METHOD:PUBLISH
X-WR-CALNAME:Kulla kapell
X-ORIGINAL-URL:https://www.kullakapell.nu
X-WR-CALDESC:Händelser för Kulla kapell
BEGIN:VTIMEZONE
TZID:UTC
BEGIN:STANDARD
TZOFFSETFROM:+0000
TZOFFSETTO:+0000
TZNAME:UTC
DTSTART:20180101T000000
END:STANDARD
END:VTIMEZONE
BEGIN:VEVENT
DTSTART;TZID=UTC:20180903T180000
DTEND;TZID=UTC:20180903T210000
DTSTAMP:20260424T072626
CREATED:20180503T075812Z
LAST-MODIFIED:20180503T075812Z
UID:1029-1535997600-1536008400@www.kullakapell.nu
SUMMARY:Stickcafé  3 september kl. 18.00
DESCRIPTION:
URL:https://www.kullakapell.nu/?tribe_events=stickcafe-3-september-kl-18-00
END:VEVENT
END:VCALENDAR