BEGIN:VCALENDAR
VERSION:2.0
PRODID:-//Kulla kapell - ECPv5.1.6//NONSGML v1.0//EN
CALSCALE:GREGORIAN
METHOD:PUBLISH
X-WR-CALNAME:Kulla kapell
X-ORIGINAL-URL:https://www.kullakapell.nu
X-WR-CALDESC:Händelser för Kulla kapell
BEGIN:VTIMEZONE
TZID:UTC
BEGIN:STANDARD
TZOFFSETFROM:+0000
TZOFFSETTO:+0000
TZNAME:UTC
DTSTART:20180101T000000
END:STANDARD
END:VTIMEZONE
BEGIN:VEVENT
DTSTART;TZID=UTC:20180806T180000
DTEND;TZID=UTC:20180806T210000
DTSTAMP:20260424T055653
CREATED:20180503T075410Z
LAST-MODIFIED:20180503T075439Z
UID:1026-1533578400-1533589200@www.kullakapell.nu
SUMMARY:Stickcafé 6 augusti kl. 18.00
DESCRIPTION:Vi stickar tillsammans och lär utav varandra. Fika
URL:https://www.kullakapell.nu/?tribe_events=stickcafe-6-augusti-kl-18-00vi
END:VEVENT
END:VCALENDAR