BEGIN:VCALENDAR
VERSION:2.0
PRODID:-//Kulla kapell - ECPv5.1.6//NONSGML v1.0//EN
CALSCALE:GREGORIAN
METHOD:PUBLISH
X-WR-CALNAME:Kulla kapell
X-ORIGINAL-URL:https://www.kullakapell.nu
X-WR-CALDESC:Händelser för Kulla kapell
BEGIN:VTIMEZONE
TZID:UTC
BEGIN:STANDARD
TZOFFSETFROM:+0000
TZOFFSETTO:+0000
TZNAME:UTC
DTSTART:20190101T000000
END:STANDARD
END:VTIMEZONE
BEGIN:VEVENT
DTSTART;TZID=UTC:20190401T180000
DTEND;TZID=UTC:20190401T210000
DTSTAMP:20260424T092300
CREATED:20190208T064553Z
LAST-MODIFIED:20190208T103721Z
UID:1238-1554141600-1554152400@www.kullakapell.nu
SUMMARY:Stickcafé måndag 1 april kl. 18.00-21.00 2019 i Fruktnöte
DESCRIPTION:Vi stickar tillsammans hemma hos Lotta. Samling vid Kulla kapell för samåkning kl. 17.00\, Abborraviken kl. 17.15. Anmälan till Gun
URL:https://www.kullakapell.nu/?tribe_events=stickcafe-mandag-1-april-kl-18-00-21-00-2019
END:VEVENT
END:VCALENDAR