BEGIN:VCALENDAR
VERSION:2.0
PRODID:-//Kulla kapell - ECPv5.1.6//NONSGML v1.0//EN
CALSCALE:GREGORIAN
METHOD:PUBLISH
X-WR-CALNAME:Kulla kapell
X-ORIGINAL-URL:https://www.kullakapell.nu
X-WR-CALDESC:Händelser för Kulla kapell
BEGIN:VTIMEZONE
TZID:UTC
BEGIN:STANDARD
TZOFFSETFROM:+0000
TZOFFSETTO:+0000
TZNAME:UTC
DTSTART:20190101T000000
END:STANDARD
END:VTIMEZONE
BEGIN:VEVENT
DTSTART;TZID=UTC:20190204T180000
DTEND;TZID=UTC:20190204T210000
DTSTAMP:20260424T161629
CREATED:20181102T172807Z
LAST-MODIFIED:20181102T172807Z
UID:1184-1549303200-1549314000@www.kullakapell.nu
SUMMARY:Stickcafé måndag 4 februari kl. 18.00-21.00 2019
DESCRIPTION:Välkommen att sticka och dela trevlig gemenskap! Du kan lära dej nya tekniker. Fika till självkostnadspris.
URL:https://www.kullakapell.nu/?tribe_events=stickcafe-mandag-4-februari-kl-18-00-21-00-2019
END:VEVENT
END:VCALENDAR