BEGIN:VCALENDAR
VERSION:2.0
PRODID:-//Kulla kapell - ECPv5.1.6//NONSGML v1.0//EN
CALSCALE:GREGORIAN
METHOD:PUBLISH
X-WR-CALNAME:Kulla kapell
X-ORIGINAL-URL:https://www.kullakapell.nu
X-WR-CALDESC:Händelser för Kulla kapell
BEGIN:VTIMEZONE
TZID:UTC
BEGIN:STANDARD
TZOFFSETFROM:+0000
TZOFFSETTO:+0000
TZNAME:UTC
DTSTART:20190101T000000
END:STANDARD
END:VTIMEZONE
BEGIN:VEVENT
DTSTART;TZID=UTC:20190805T180000
DTEND;TZID=UTC:20190805T180000
DTSTAMP:20260424T073847
CREATED:20190123T093340Z
LAST-MODIFIED:20190123T093340Z
UID:1277-1565028000-1565028000@www.kullakapell.nu
SUMMARY:Stickcafé  Måndag 5 augusti kl. 18.00 - 21.00
DESCRIPTION:Vi stickar och fikar. Välkomna till en trevlig gemenskap!
URL:https://www.kullakapell.nu/?tribe_events=stickcafe-mandag-5-augusti-kl-18-00-21-00
END:VEVENT
END:VCALENDAR