BEGIN:VCALENDAR
VERSION:2.0
PRODID:-//Kulla kapell - ECPv5.1.6//NONSGML v1.0//EN
CALSCALE:GREGORIAN
METHOD:PUBLISH
X-WR-CALNAME:Kulla kapell
X-ORIGINAL-URL:https://www.kullakapell.nu
X-WR-CALDESC:Händelser för Kulla kapell
BEGIN:VTIMEZONE
TZID:UTC
BEGIN:STANDARD
TZOFFSETFROM:+0000
TZOFFSETTO:+0000
TZNAME:UTC
DTSTART:20230101T000000
END:STANDARD
END:VTIMEZONE
BEGIN:VEVENT
DTSTART;TZID=UTC:20230109T180000
DTEND;TZID=UTC:20230109T210000
DTSTAMP:20260424T161613
CREATED:20230101T163503Z
LAST-MODIFIED:20230101T163503Z
UID:2027-1673287200-1673298000@www.kullakapell.nu
SUMMARY:Stickcafé måndag 9 januari 2023 kl. 18.00-21.00
DESCRIPTION:Välkommen att sticka tillsammans! Vi lär oss av varandra. Fika medtages.
URL:https://www.kullakapell.nu/?tribe_events=stickcafe-mandag-9-januari-2023-kl-18-00-21-00
END:VEVENT
END:VCALENDAR