BEGIN:VCALENDAR
VERSION:2.0
PRODID:-//Kulla kapell - ECPv5.1.6//NONSGML v1.0//EN
CALSCALE:GREGORIAN
METHOD:PUBLISH
X-WR-CALNAME:Kulla kapell
X-ORIGINAL-URL:https://www.kullakapell.nu
X-WR-CALDESC:Händelser för Kulla kapell
BEGIN:VTIMEZONE
TZID:UTC
BEGIN:STANDARD
TZOFFSETFROM:+0000
TZOFFSETTO:+0000
TZNAME:UTC
DTSTART:20150101T000000
END:STANDARD
END:VTIMEZONE
BEGIN:VEVENT
DTSTART;TZID=UTC:20150630T090000
DTEND;TZID=UTC:20150630T160000
DTSTAMP:20260422T181328
CREATED:20150214T181943Z
LAST-MODIFIED:20150214T181943Z
UID:394-1435654800-1435680000@www.kullakapell.nu
SUMMARY:Syföreningsutflykt 30/6 till Åsens by
DESCRIPTION:Samling kl. 09.00 vid Kulla kapell. Samåkning. Självkostnadspris. Vi äter på Åsens by. Tag med kaffekorg. Mer information vid anmälan till Gun Fransson tel: 0381-81097
URL:https://www.kullakapell.nu/?tribe_events=syforeningsutflykt-306-till-asens-by
END:VEVENT
END:VCALENDAR