BEGIN:VCALENDAR
VERSION:2.0
PRODID:-//Kulla kapell - ECPv5.1.6//NONSGML v1.0//EN
CALSCALE:GREGORIAN
METHOD:PUBLISH
X-WR-CALNAME:Kulla kapell
X-ORIGINAL-URL:https://www.kullakapell.nu
X-WR-CALDESC:Händelser för Kulla kapell
BEGIN:VTIMEZONE
TZID:UTC
BEGIN:STANDARD
TZOFFSETFROM:+0000
TZOFFSETTO:+0000
TZNAME:UTC
DTSTART:20140101T000000
END:STANDARD
END:VTIMEZONE
BEGIN:VEVENT
DTSTART;TZID=UTC:20141007T160000
DTEND;TZID=UTC:20141007T180000
DTSTAMP:20260422T090913
CREATED:20140803T163802Z
LAST-MODIFIED:20140803T163802Z
UID:276-1412697600-1412704800@www.kullakapell.nu
SUMMARY:Symöte 7/10 kl.16.00
DESCRIPTION:Kulla Lilla syförening samlas hos Gun Fransson i Kulladal
URL:https://www.kullakapell.nu/?tribe_events=symote-710-kl-16-00
END:VEVENT
END:VCALENDAR