BEGIN:VCALENDAR
VERSION:2.0
PRODID:-//Kulla kapell - ECPv5.1.6//NONSGML v1.0//EN
CALSCALE:GREGORIAN
METHOD:PUBLISH
X-WR-CALNAME:Kulla kapell
X-ORIGINAL-URL:https://www.kullakapell.nu
X-WR-CALDESC:Händelser för Kulla kapell
BEGIN:VTIMEZONE
TZID:UTC
BEGIN:STANDARD
TZOFFSETFROM:+0000
TZOFFSETTO:+0000
TZNAME:UTC
DTSTART:20170101T000000
END:STANDARD
END:VTIMEZONE
BEGIN:VEVENT
DTSTART;TZID=UTC:20170202T180000
DTEND;TZID=UTC:20170202T200000
DTSTAMP:20260423T143338
CREATED:20161214T100518Z
LAST-MODIFIED:20161214T100518Z
UID:703-1486058400-1486065600@www.kullakapell.nu
SUMMARY:Torsdag 2 februari kl. 18.00 Dokumentationsarbete runt Kullafilmen.
DESCRIPTION:Dokumentationsarbete omkring Kullafilmen torsdag 2 februari  kl. 18.00 i Kulla kapell.\nKom och hjälp till med vilka platser och personer som finns med i filmen. Välkommen!
URL:https://www.kullakapell.nu/?tribe_events=torsdag-2-februari-kl-18-00-dokumentationsarbete-runt-kullafilmen
END:VEVENT
END:VCALENDAR