BEGIN:VCALENDAR
VERSION:2.0
PRODID:-//Kulla kapell - ECPv5.1.6//NONSGML v1.0//EN
CALSCALE:GREGORIAN
METHOD:PUBLISH
X-WR-CALNAME:Kulla kapell
X-ORIGINAL-URL:https://www.kullakapell.nu
X-WR-CALDESC:Händelser för Kulla kapell
BEGIN:VTIMEZONE
TZID:UTC
BEGIN:STANDARD
TZOFFSETFROM:+0000
TZOFFSETTO:+0000
TZNAME:UTC
DTSTART:20180101T000000
END:STANDARD
END:VTIMEZONE
BEGIN:VEVENT
DTSTART;TZID=UTC:20181025T190000
DTEND;TZID=UTC:20181025T203000
DTSTAMP:20260424T102548
CREATED:20180821T205040Z
LAST-MODIFIED:20180821T205040Z
UID:1123-1540494000-1540499400@www.kullakapell.nu
SUMMARY:Torsdag 25 oktober kl. 19.00 Kulla kapellföreningens styrelse
DESCRIPTION:
URL:https://www.kullakapell.nu/?tribe_events=torsdag-25-oktober-kl-19-00-kulla-kapellforeningens-styrelse
END:VEVENT
END:VCALENDAR