BEGIN:VCALENDAR
VERSION:2.0
PRODID:-//Kulla kapell - ECPv5.1.6//NONSGML v1.0//EN
CALSCALE:GREGORIAN
METHOD:PUBLISH
X-WR-CALNAME:Kulla kapell
X-ORIGINAL-URL:https://www.kullakapell.nu
X-WR-CALDESC:Händelser för Kulla kapell
BEGIN:VTIMEZONE
TZID:UTC
BEGIN:STANDARD
TZOFFSETFROM:+0000
TZOFFSETTO:+0000
TZNAME:UTC
DTSTART:20170101T000000
END:STANDARD
END:VTIMEZONE
BEGIN:VEVENT
DTSTART;TZID=UTC:20170628T110000
DTEND;TZID=UTC:20170628T160000
DTSTAMP:20260424T025652
CREATED:20170620T225955Z
LAST-MODIFIED:20170621T152209Z
UID:732-1498647600-1498665600@www.kullakapell.nu
SUMMARY:Onsdag 28 juni kl. 11.00 Vägkyrka  Andakt kl.15.00
DESCRIPTION:Hantverkare: Kerstin Petersson\, Nässjö målade korgar och textilt\nAndakt och musik Kl. 15.00 : Rödja dragspelsklubb\nVarje dag:\nGuidning av kapellet      Servering med hembakat bröd        Hantverksförsäljning    Kortförsäljning  Lotterier       Utställning av gamla bruksföremål       IM utställning/försäljning (Onsdag-söndag)
URL:https://www.kullakapell.nu/?tribe_events=vagkyrka-10
END:VEVENT
END:VCALENDAR