BEGIN:VCALENDAR
VERSION:2.0
PRODID:-//Kulla kapell - ECPv5.1.6//NONSGML v1.0//EN
CALSCALE:GREGORIAN
METHOD:PUBLISH
X-WR-CALNAME:Kulla kapell
X-ORIGINAL-URL:https://www.kullakapell.nu
X-WR-CALDESC:Händelser för Kulla kapell
BEGIN:VTIMEZONE
TZID:UTC
BEGIN:STANDARD
TZOFFSETFROM:+0000
TZOFFSETTO:+0000
TZNAME:UTC
DTSTART:20170101T000000
END:STANDARD
END:VTIMEZONE
BEGIN:VEVENT
DTSTART;TZID=UTC:20170629T110000
DTEND;TZID=UTC:20170629T160000
DTSTAMP:20260424T041636
CREATED:20170620T230029Z
LAST-MODIFIED:20170621T151016Z
UID:733-1498734000-1498752000@www.kullakapell.nu
SUMMARY:Torsdag 29 juni Vägkyrka kl. 11.00  Andakt Kl.15.00
DESCRIPTION:Hantverkare: IM-dagen med utställning\, hantverk och försäljning\nAndakt och musik Kl. 15.00 : Marie Schön\, Fåglakulla berättar och visar bilder om ”Nepal efter jordbävningen” ”Visor i sommartid” Else-Marie Spjuth\, tvärflöjt och Barbro Olofsson\, piano\, Nässjö\nGuidning av kapellet      Servering med hembakat bröd        Hantverksförsäljning    Kortförsäljning  Lotterier       Utställning av gamla bruksföremål       IM utställning/försäljning (Onsdag-söndag)
URL:https://www.kullakapell.nu/?tribe_events=vagkyrka-11
END:VEVENT
END:VCALENDAR