BEGIN:VCALENDAR
VERSION:2.0
PRODID:-//Kulla kapell - ECPv5.1.6//NONSGML v1.0//EN
CALSCALE:GREGORIAN
METHOD:PUBLISH
X-WR-CALNAME:Kulla kapell
X-ORIGINAL-URL:https://www.kullakapell.nu
X-WR-CALDESC:Händelser för Kulla kapell
BEGIN:VTIMEZONE
TZID:UTC
BEGIN:STANDARD
TZOFFSETFROM:+0000
TZOFFSETTO:+0000
TZNAME:UTC
DTSTART:20170101T000000
END:STANDARD
END:VTIMEZONE
BEGIN:VEVENT
DTSTART;TZID=UTC:20170630T110000
DTEND;TZID=UTC:20170630T160000
DTSTAMP:20260424T025747
CREATED:20170620T230121Z
LAST-MODIFIED:20170621T151329Z
UID:734-1498820400-1498838400@www.kullakapell.nu
SUMMARY:Fredag 30 juni kl.11.00 Vägkyrka Andakt kl.15.00
DESCRIPTION:Hantverkare: Knutte Knutsson\, Eksjö visar täljda gubbar med temat Albert Engström\nAndakt och musik Kl. 15.00 : Karin Rickardsson\, Eksjö Musik: Maria Uggla\nGuidning av kapellet      Servering med hembakat bröd        Hantverksförsäljning    Kortförsäljning  Lotterier       Utställning av gamla bruksföremål       IM utställning/försäljning (Onsdag-söndag)
URL:https://www.kullakapell.nu/?tribe_events=vagkyrka-12
END:VEVENT
END:VCALENDAR