BEGIN:VCALENDAR
VERSION:2.0
PRODID:-//Kulla kapell - ECPv5.1.6//NONSGML v1.0//EN
CALSCALE:GREGORIAN
METHOD:PUBLISH
X-WR-CALNAME:Kulla kapell
X-ORIGINAL-URL:https://www.kullakapell.nu
X-WR-CALDESC:Händelser för Kulla kapell
BEGIN:VTIMEZONE
TZID:UTC
BEGIN:STANDARD
TZOFFSETFROM:+0000
TZOFFSETTO:+0000
TZNAME:UTC
DTSTART:20170101T000000
END:STANDARD
END:VTIMEZONE
BEGIN:VEVENT
DTSTART;TZID=UTC:20170702T110000
DTEND;TZID=UTC:20170702T160000
DTSTAMP:20260423T235940
CREATED:20170620T230225Z
LAST-MODIFIED:20170621T152020Z
UID:736-1498993200-1499011200@www.kullakapell.nu
SUMMARY:Söndag 2 juli kl.11.00 Vägkyrka Gudstjänst kl.15.00 med kyrkkaffe
DESCRIPTION:Hantverkare: Inger Stenberg\, Nässjö Silversmide\nGudstjänst Kl. 15.00 : Predikan Birgitta Carsnäs\, Hestra Kvarn musik Maria Uggla\, Vetlanda Efter gudstjänsten serveras kyrkkaffe\nGuidning av kapellet      Servering med hembakat bröd        Hantverksförsäljning    Kortförsäljning  Lotterier       Utställning av gamla bruksföremål       IM utställning/försäljning (Onsdag-söndag)
URL:https://www.kullakapell.nu/?tribe_events=vagkyrka-14
END:VEVENT
END:VCALENDAR