BEGIN:VCALENDAR
VERSION:2.0
PRODID:-//Kulla kapell - ECPv5.1.6//NONSGML v1.0//EN
CALSCALE:GREGORIAN
METHOD:PUBLISH
X-WR-CALNAME:Kulla kapell
X-ORIGINAL-URL:https://www.kullakapell.nu
X-WR-CALDESC:Händelser för Kulla kapell
BEGIN:VTIMEZONE
TZID:UTC
BEGIN:STANDARD
TZOFFSETFROM:+0000
TZOFFSETTO:+0000
TZNAME:UTC
DTSTART:20160101T000000
END:STANDARD
END:VTIMEZONE
BEGIN:VEVENT
DTSTART;TZID=UTC:20160701T110000
DTEND;TZID=UTC:20160701T160000
DTSTAMP:20260423T102601
CREATED:20160514T183217Z
LAST-MODIFIED:20160606T165026Z
UID:605-1467370800-1467388800@www.kullakapell.nu
SUMMARY:Vägkyrka 1/7 kl. 11.00 – 15.00
DESCRIPTION:Guidning av kapellet\, Servering med hembakat bröd\, Utställning om Björken\, Lotterier\, Kortförsäljning\, IM-försäljning\, Loppis \nHantverkare: Kerstin Petersson\, Nässjö Målade korgar och textilt och Brita Dunderberg\, Broarp ”Sommar Fägring” i ugnsformat glas \nKl. 15.00 Andakt  Iréne Oskarsson\, Hultrum\, Aneby  Musik: Iréne Oskarsson och Göran Tranell\, Hultrum\, Aneby och Kristin Järvmark\, Aneby
URL:https://www.kullakapell.nu/?tribe_events=vagkyrka-17-kl-11-00-15-00
END:VEVENT
END:VCALENDAR