BEGIN:VCALENDAR
VERSION:2.0
PRODID:-//Kulla kapell - ECPv5.1.6//NONSGML v1.0//EN
CALSCALE:GREGORIAN
METHOD:PUBLISH
X-WR-CALNAME:Kulla kapell
X-ORIGINAL-URL:https://www.kullakapell.nu
X-WR-CALDESC:Händelser för Kulla kapell
BEGIN:VTIMEZONE
TZID:UTC
BEGIN:STANDARD
TZOFFSETFROM:+0000
TZOFFSETTO:+0000
TZNAME:UTC
DTSTART:20160101T000000
END:STANDARD
END:VTIMEZONE
BEGIN:VEVENT
DTSTART;TZID=UTC:20160627T110000
DTEND;TZID=UTC:20160627T160000
DTSTAMP:20260423T072230
CREATED:20160514T182202Z
LAST-MODIFIED:20160606T164802Z
UID:602-1467025200-1467043200@www.kullakapell.nu
SUMMARY:Vägkyrka 27/6 kl. 11.00 – 15.00
DESCRIPTION:Guidning av kapellet\, Servering med hembakat bröd\, Utställning om Björken\, Lotterier\, Kortförsäljning\, IM-försäljning\, Loppis \nHantverkare: Inger Stenberg\, Nässjö Silversmide \nKl. 15.00 Andakt  Lindor Lindén\, Bodafors Musik Sångarglädje\, Malmbäck
URL:https://www.kullakapell.nu/?tribe_events=vagkyrka-276-kl-11-00-15-00
END:VEVENT
END:VCALENDAR