BEGIN:VCALENDAR
VERSION:2.0
PRODID:-//Kulla kapell - ECPv5.1.6//NONSGML v1.0//EN
CALSCALE:GREGORIAN
METHOD:PUBLISH
X-WR-CALNAME:Kulla kapell
X-ORIGINAL-URL:https://www.kullakapell.nu
X-WR-CALDESC:Händelser för Kulla kapell
BEGIN:VTIMEZONE
TZID:UTC
BEGIN:STANDARD
TZOFFSETFROM:+0000
TZOFFSETTO:+0000
TZNAME:UTC
DTSTART:20160101T000000
END:STANDARD
END:VTIMEZONE
BEGIN:VEVENT
DTSTART;TZID=UTC:20160629T110000
DTEND;TZID=UTC:20160629T160000
DTSTAMP:20260423T072307
CREATED:20160514T182517Z
LAST-MODIFIED:20160606T164903Z
UID:603-1467198000-1467216000@www.kullakapell.nu
SUMMARY:Vägkyrka 29/6 kl. 11.00 – 15.00
DESCRIPTION:Guidning av kapellet\, Servering med hembakat bröd\, Utställning om Björken\, Lotterier\, Kortförsäljning\, IM-försäljning\,  Loppis \nHantverkare: Berne Wilhelmsson\, Eksjö Näverslöjd\, svepteknik \nKl. 15.00 Andakt  och Musik Rödja Dragspelsklubb
URL:https://www.kullakapell.nu/?tribe_events=vagkyrka-296-kl-11-00-15-00
END:VEVENT
END:VCALENDAR