BEGIN:VCALENDAR
VERSION:2.0
PRODID:-//Kulla kapell - ECPv5.1.6//NONSGML v1.0//EN
CALSCALE:GREGORIAN
METHOD:PUBLISH
X-WR-CALNAME:Kulla kapell
X-ORIGINAL-URL:https://www.kullakapell.nu
X-WR-CALDESC:Händelser för Kulla kapell
BEGIN:VTIMEZONE
TZID:UTC
BEGIN:STANDARD
TZOFFSETFROM:+0000
TZOFFSETTO:+0000
TZNAME:UTC
DTSTART:20160101T000000
END:STANDARD
END:VTIMEZONE
BEGIN:VEVENT
DTSTART;TZID=UTC:20160703T110000
DTEND;TZID=UTC:20160703T163000
DTSTAMP:20260423T094702
CREATED:20160514T183844Z
LAST-MODIFIED:20160606T165205Z
UID:607-1467543600-1467563400@www.kullakapell.nu
SUMMARY:Vägkyrka 3/7 kl. 11.00 – 15.00
DESCRIPTION:Guidning av kapellet\, Servering med hembakat bröd\, Utställning om Björken\, Lotterier\, Kortförsäljning\, IM-försäljning\, Loppis \nHantverkare: Charlotte Annerstedt\, Fruktnöte Stickat\, färgat\, tovat \nKl. 15.00 Gudstjänst Predikan Henrik Broman\, Hult Musik Lilian Havsed\, Vetlanda \nKyrkkaffe serveras efter gudstjänsten
URL:https://www.kullakapell.nu/?tribe_events=vagkyrka-37-kl-11-00-15-00
END:VEVENT
END:VCALENDAR