BEGIN:VCALENDAR
VERSION:2.0
PRODID:-//Kulla kapell - ECPv5.1.6//NONSGML v1.0//EN
CALSCALE:GREGORIAN
METHOD:PUBLISH
X-WR-CALNAME:Kulla kapell
X-ORIGINAL-URL:https://www.kullakapell.nu
X-WR-CALDESC:Händelser för Kulla kapell
BEGIN:VTIMEZONE
TZID:UTC
BEGIN:STANDARD
TZOFFSETFROM:+0000
TZOFFSETTO:+0000
TZNAME:UTC
DTSTART:20170101T000000
END:STANDARD
END:VTIMEZONE
BEGIN:VEVENT
DTSTART;TZID=UTC:20170627T110000
DTEND;TZID=UTC:20170627T160000
DTSTAMP:20260424T023220
CREATED:20170620T165020Z
LAST-MODIFIED:20170621T152109Z
UID:731-1498561200-1498579200@www.kullakapell.nu
SUMMARY:Tisdag 27 juni kl. 11.00 Vägkyrka Andakt kl. 15.00
DESCRIPTION:Hantverkare: Ing-Britt Jonsson\, Rosenö. vävda alster\, mattor\, korgar och brödfat sytt av tyg på snören. \nAndakt och musik Kl. 15.00 : Lindor Lindén\, Bodafors Sång av Sångarglädje\, Malmbäck\nVarje dag:\nGuidning av kapellet      Servering med hembakat bröd        Hantverksförsäljning    Kortförsäljning  Lotterier       Utställning av gamla bruksföremål       IM utställning/försäljning (Onsdag-söndag)
URL:https://www.kullakapell.nu/?tribe_events=vagkyrka-9
END:VEVENT
END:VCALENDAR