BEGIN:VCALENDAR
VERSION:2.0
PRODID:-//Kulla kapell - ECPv5.1.6//NONSGML v1.0//EN
CALSCALE:GREGORIAN
METHOD:PUBLISH
X-WR-CALNAME:Kulla kapell
X-ORIGINAL-URL:https://www.kullakapell.nu
X-WR-CALDESC:Händelser för Kulla kapell
BEGIN:VTIMEZONE
TZID:UTC
BEGIN:STANDARD
TZOFFSETFROM:+0000
TZOFFSETTO:+0000
TZNAME:UTC
DTSTART:20150101T000000
END:STANDARD
END:VTIMEZONE
BEGIN:VEVENT
DTSTART;TZID=UTC:20150622T110000
DTEND;TZID=UTC:20150622T150000
DTSTAMP:20260422T210757
CREATED:20150127T141945Z
LAST-MODIFIED:20150705T125429Z
UID:371-1434970800-1434985200@www.kullakapell.nu
SUMMARY:Vägkyrka 22/6 kl. 11.00 - 15.00
DESCRIPTION:Guidning av kapellet\, Servering med hembakat bröd\, Folkdräktsdräktsutställning\, lotterier\, kortförsäljning\, IM-försäljning\, blommor \nHantverkare: Maj-Britt Karlsson\, Russnäs Hornslöjd\, vävt\, stickat \nKl. 15.00 Andakt  Iréne Oskarsson\, Aneby  Musik: Iréne Oskarsson och Kristin Järvmark\, Aneby
URL:https://www.kullakapell.nu/?tribe_events=vagkyrka-kl-11-00-15-00
END:VEVENT
END:VCALENDAR