BEGIN:VCALENDAR
VERSION:2.0
PRODID:-//Kulla kapell - ECPv5.1.6//NONSGML v1.0//EN
CALSCALE:GREGORIAN
METHOD:PUBLISH
X-WR-CALNAME:Kulla kapell
X-ORIGINAL-URL:https://www.kullakapell.nu
X-WR-CALDESC:Händelser för Kulla kapell
BEGIN:VTIMEZONE
TZID:UTC
BEGIN:STANDARD
TZOFFSETFROM:+0000
TZOFFSETTO:+0000
TZNAME:UTC
DTSTART:20150101T000000
END:STANDARD
END:VTIMEZONE
BEGIN:VEVENT
DTSTART;TZID=UTC:20150623T110000
DTEND;TZID=UTC:20150623T150000
DTSTAMP:20260422T212320
CREATED:20150127T142040Z
LAST-MODIFIED:20150605T123026Z
UID:372-1435057200-1435071600@www.kullakapell.nu
SUMMARY:Vägkyrka 23/6 kl.11.00 - 15.00
DESCRIPTION:Guidning av kapellet\, Servering med hembakat bröd\, Folkdräktsdräktsutställning\, lotterier\, kortförsäljning\, IM-försäljning\, blommor \nHantverkare: Berne Wilhelmsson\, EksjöNäverslöjd\, svepteknik \nKl. 15.00 Andakt  Lindor Lindén\, Bodafors Musik Sångarglädje\, Malmbäck
URL:https://www.kullakapell.nu/?tribe_events=vagkyrka-kl-11-00-15-00-2
END:VEVENT
END:VCALENDAR