BEGIN:VCALENDAR
VERSION:2.0
PRODID:-//Kulla kapell - ECPv5.1.6//NONSGML v1.0//EN
CALSCALE:GREGORIAN
METHOD:PUBLISH
X-WR-CALNAME:Kulla kapell
X-ORIGINAL-URL:https://www.kullakapell.nu
X-WR-CALDESC:Händelser för Kulla kapell
BEGIN:VTIMEZONE
TZID:UTC
BEGIN:STANDARD
TZOFFSETFROM:+0000
TZOFFSETTO:+0000
TZNAME:UTC
DTSTART:20150101T000000
END:STANDARD
END:VTIMEZONE
BEGIN:VEVENT
DTSTART;TZID=UTC:20150624T110000
DTEND;TZID=UTC:20150624T150000
DTSTAMP:20260422T224503
CREATED:20150127T142116Z
LAST-MODIFIED:20150605T123229Z
UID:373-1435143600-1435158000@www.kullakapell.nu
SUMMARY:Vägkyrka 24/6 kl.11.00 - 15.00
DESCRIPTION:Guidning av kapellet\, Servering med hembakat bröd\, Folkdräktsdräktsutställning\, lotterier\, kortförsäljning\, IM-försäljning\, blommor \nHantverkare: Rosita Jarl\, Hult ”Änglar\, ljus och Korgar” \nKl. 15.00 Andakt  och Musik Rödja Dragspelsklubb
URL:https://www.kullakapell.nu/?tribe_events=vagkyrka-kl-11-00-15-00-3
END:VEVENT
END:VCALENDAR