BEGIN:VCALENDAR
VERSION:2.0
PRODID:-//Kulla kapell - ECPv5.1.6//NONSGML v1.0//EN
CALSCALE:GREGORIAN
METHOD:PUBLISH
X-WR-CALNAME:Kulla kapell
X-ORIGINAL-URL:https://www.kullakapell.nu
X-WR-CALDESC:Händelser för Kulla kapell
BEGIN:VTIMEZONE
TZID:UTC
BEGIN:STANDARD
TZOFFSETFROM:+0000
TZOFFSETTO:+0000
TZNAME:UTC
DTSTART:20160101T000000
END:STANDARD
END:VTIMEZONE
BEGIN:VEVENT
DTSTART;TZID=UTC:20160419T100000
DTEND;TZID=UTC:20160419T113000
DTSTAMP:20260423T060014
CREATED:20160411T154002Z
LAST-MODIFIED:20160412T125002Z
UID:576-1461060000-1461065400@www.kullakapell.nu
SUMMARY:Vägkyrkoplanering 19 april kl. 10.00
DESCRIPTION:Vi planerar för vägkyrkan kl. 10.00 hemma hos Gun i Kulladal
URL:https://www.kullakapell.nu/?tribe_events=vagkyrkoplanering-20-april-kl-09-30
END:VEVENT
END:VCALENDAR