BEGIN:VCALENDAR
VERSION:2.0
PRODID:-//Kulla kapell - ECPv5.1.6//NONSGML v1.0//EN
CALSCALE:GREGORIAN
METHOD:PUBLISH
X-WR-CALNAME:Kulla kapell
X-ORIGINAL-URL:https://www.kullakapell.nu
X-WR-CALDESC:Händelser för Kulla kapell
BEGIN:VTIMEZONE
TZID:UTC
BEGIN:STANDARD
TZOFFSETFROM:+0000
TZOFFSETTO:+0000
TZNAME:UTC
DTSTART:20160101T000000
END:STANDARD
END:VTIMEZONE
BEGIN:VEVENT
DTSTART;TZID=UTC:20160331T100000
DTEND;TZID=UTC:20160331T113000
DTSTAMP:20260423T043501
CREATED:20160130T214356Z
LAST-MODIFIED:20160130T214428Z
UID:535-1459418400-1459423800@www.kullakapell.nu
SUMMARY:Vägkyrkoplanering 31 mars kl 10.00 i Kulladal
DESCRIPTION:
URL:https://www.kullakapell.nu/?tribe_events=vagkyrkoplanering-31-mars-kl-10-00-i-kulladal
END:VEVENT
END:VCALENDAR