BEGIN:VCALENDAR
VERSION:2.0
PRODID:-//Kulla kapell - ECPv5.1.6//NONSGML v1.0//EN
CALSCALE:GREGORIAN
METHOD:PUBLISH
X-WR-CALNAME:Kulla kapell
X-ORIGINAL-URL:https://www.kullakapell.nu
X-WR-CALDESC:Händelser för Kulla kapell
BEGIN:VTIMEZONE
TZID:UTC
BEGIN:STANDARD
TZOFFSETFROM:+0000
TZOFFSETTO:+0000
TZNAME:UTC
DTSTART:20150101T000000
END:STANDARD
END:VTIMEZONE
BEGIN:VEVENT
DTSTART;TZID=UTC:20150223T110000
DTEND;TZID=UTC:20150223T123000
DTSTAMP:20260422T182709
CREATED:20150210T191424Z
LAST-MODIFIED:20150214T180053Z
UID:387-1424689200-1424694600@www.kullakapell.nu
SUMMARY:Vägkyrkoplanering måndagen den 23/2 kl.11.00 hos Gun Fransson
DESCRIPTION:Kulladal tel: 0381-81097
URL:https://www.kullakapell.nu/?tribe_events=vagkyrkoplanering-kl-11-00-hos-gun-fransson
END:VEVENT
END:VCALENDAR