BEGIN:VCALENDAR
VERSION:2.0
PRODID:-//Kulla kapell - ECPv5.1.6//NONSGML v1.0//EN
CALSCALE:GREGORIAN
METHOD:PUBLISH
X-WR-CALNAME:Kulla kapell
X-ORIGINAL-URL:https://www.kullakapell.nu
X-WR-CALDESC:Händelser för Kulla kapell
BEGIN:VTIMEZONE
TZID:UTC
BEGIN:STANDARD
TZOFFSETFROM:+0000
TZOFFSETTO:+0000
TZNAME:UTC
DTSTART:20170101T000000
END:STANDARD
END:VTIMEZONE
BEGIN:VEVENT
DTSTART;TZID=UTC:20170420T100000
DTEND;TZID=UTC:20170420T120000
DTSTAMP:20260423T190421
CREATED:20170124T154432Z
LAST-MODIFIED:20170124T154432Z
UID:742-1492682400-1492689600@www.kullakapell.nu
SUMMARY:Vägkyrkoplanering torsdag 20 april kl. 10.00 i Kulladal
DESCRIPTION:
URL:https://www.kullakapell.nu/?tribe_events=vagkyrkoplanering-torsdag-20-april-kl-10-00-i-kulladal
END:VEVENT
END:VCALENDAR