BEGIN:VCALENDAR
VERSION:2.0
PRODID:-//Kulla kapell - ECPv5.1.6//NONSGML v1.0//EN
CALSCALE:GREGORIAN
METHOD:PUBLISH
X-WR-CALNAME:Kulla kapell
X-ORIGINAL-URL:https://www.kullakapell.nu
X-WR-CALDESC:Händelser för Kulla kapell
BEGIN:VTIMEZONE
TZID:UTC
BEGIN:STANDARD
TZOFFSETFROM:+0000
TZOFFSETTO:+0000
TZNAME:UTC
DTSTART:20220101T000000
END:STANDARD
END:VTIMEZONE
BEGIN:VEVENT
DTSTART;TZID=UTC:20220421T100000
DTEND;TZID=UTC:20220421T120000
DTSTAMP:20260424T205804
CREATED:20220407T134835Z
LAST-MODIFIED:20220407T135011Z
UID:1933-1650535200-1650542400@www.kullakapell.nu
SUMMARY:Vägkyrkoplanering torsdag 21 april kl. 10.00 hos Gun Fransson
DESCRIPTION:Samling hos Gun Fransson Sjögatan 2 Nässjö
URL:https://www.kullakapell.nu/?tribe_events=vagkyrkoplanering-torsdag-21-april-kl-10-00-hos-gun-fransson
END:VEVENT
END:VCALENDAR