BEGIN:VCALENDAR
VERSION:2.0
PRODID:-//Kulla kapell - ECPv5.1.6//NONSGML v1.0//EN
CALSCALE:GREGORIAN
METHOD:PUBLISH
X-WR-CALNAME:Kulla kapell
X-ORIGINAL-URL:https://www.kullakapell.nu
X-WR-CALDESC:Händelser för Kulla kapell
BEGIN:VTIMEZONE
TZID:UTC
BEGIN:STANDARD
TZOFFSETFROM:+0000
TZOFFSETTO:+0000
TZNAME:UTC
DTSTART:20150101T000000
END:STANDARD
END:VTIMEZONE
BEGIN:VEVENT
DTSTART;TZID=UTC:20150502T140000
DTEND;TZID=UTC:20150502T153000
DTSTAMP:20260422T183047
CREATED:20150317T090416Z
LAST-MODIFIED:20150317T090416Z
UID:407-1430575200-1430580600@www.kullakapell.nu
SUMMARY:Vigsel 2 maj 2014
DESCRIPTION:
URL:https://www.kullakapell.nu/?tribe_events=vigsel-2-maj-2014
END:VEVENT
END:VCALENDAR